BEGIN:VCALENDAR
VERSION:2.0
BEGIN:VEVENT
UID:263916BC-32FE-4432-BB17-7568DE186001
DTSTART:20240411T200000Z
DTEND:20240411T210000Z
SUMMARY:References to Salvador Dali Make Me Hot by José Ri
DESCRIPTION:April 11 & 19 (8:00 p.m.)\, April 20 (2:00 p.m.) \nReferences t
 o Salvador Dali Make Me Hot by José Rivera \nSet in the desert of Barstow\
 , California\, References to Salvador Dali Make Me Hot follows Gabriela\,
  the wife of career soldier Benito\, as she dives into a surreal fantasy w
 orld during her husband’s prolonged absences and imagines the mating ritua
 ls between a coyote and a cat. \n To purchase tickets online \, please vis
 it https://smu.universitytickets.com. For more information call 214-768-27
 87.\nMargo Jones Theatre\nOwen Arts Center\, 6101 Bishop Blvd. SMU campus\
 nDallas\, TX 75205 United States\n
LOCATION:Owen Arts Center\, 6101 Bishop Blvd. SMU campus\, Dallas\, TX 7520
 5
URL:http://smu.bubblelife.com/community/smu_meadows_school_of_the_arts/libr
 ary/350783124/key/3511258873/References_to_Salvador_Dali_Make_Me_Hot_by_Jo
 s_Ri
CREATED:20240318T190758Z
LAST-MODIFIED:20240318T190758Z
DTSTAMP:20260421T073414Z
CLASS:PUBLIC
STATUS:CONFIRMED
TRANSP:TRANSPARENT
SEQUENCE:1
END:VEVENT
END:VCALENDAR
